BEGIN:VCALENDAR
VERSION:2.0
PRODID:-//ChamberMaster//Event Calendar 2.0//EN
METHOD:PUBLISH
X-PUBLISHED-TTL:P3D
REFRESH-INTERVAL:P3D
CALSCALE:GREGORIAN
BEGIN:VEVENT
DTSTART:20230708T230000Z
DTEND:20230709T020000Z
X-MICROSOFT-CDO-ALLDAYEVENT:FALSE
SUMMARY:Harmony Street at Eastside Social
DESCRIPTION:Dinner\, Drinks & your favorite songs inside! Jim Graham will join us. Harmony Street at Eastside Social\, schedule it!
X-ALT-DESC;FMTTYPE=text/html:Dinner\, Drinks &amp\; your favorite songs inside! Jim Graham will join us. Harmony Street at Eastside Social\, schedule it!
LOCATION:Eastside Social 113 S Washington St Neosho\, MO 64850
UID:e.2144.10490
SEQUENCE:3
DTSTAMP:20260425T170939Z
URL:https://www.neoshocc.com/events/details/harmony-street-eastside-social-10490
END:VEVENT

END:VCALENDAR
