BEGIN:VCALENDAR
VERSION:2.0
PRODID:-//ChamberMaster//Event Calendar 2.0//EN
METHOD:PUBLISH
X-PUBLISHED-TTL:P3D
REFRESH-INTERVAL:P3D
CALSCALE:GREGORIAN
BEGIN:VEVENT
DTSTART:20241012T230000Z
DTEND:20241013T020000Z
X-MICROSOFT-CDO-ALLDAYEVENT:FALSE
SUMMARY:Harmony Street Live At Eastside Social
DESCRIPTION:We're excited to welcome Harmony Street back to Eastside Social! ?? This is one group you won't want to miss. Join us for a fantastic evening of music on October 12th from 6pm to 9pm. It's going to be a great time\, so be sure to swing by!
X-ALT-DESC;FMTTYPE=text/html:<span style="font-size:16px"><span style="color:rgb(35\, 31\, 32)\; font-family:brandon-grotesque">We&rsquo\;re excited to welcome Harmony Street back to Eastside Social! ?? This is one group you won&rsquo\;t want to miss. Join us for a fantastic evening of music on October 12th from 6pm to 9pm. It&rsquo\;s going to be a great time\, so be sure to swing by! </span></span>
LOCATION:113 S Washington St Neosho\, Mo at Eastside Social
UID:e.2144.13058
SEQUENCE:3
DTSTAMP:20260424T203023Z
URL:https://www.neoshocc.com/events/details/harmony-street-live-at-eastside-social-13058
END:VEVENT

END:VCALENDAR
