BEGIN:VCALENDAR
VERSION:2.0
PRODID:-//ChamberMaster//Event Calendar 2.0//EN
METHOD:PUBLISH
X-PUBLISHED-TTL:P3D
REFRESH-INTERVAL:P3D
CALSCALE:GREGORIAN
BEGIN:VEVENT
DTSTART:20251002T223000Z
DTEND:20251003T000000Z
X-MICROSOFT-CDO-ALLDAYEVENT:FALSE
SUMMARY:Heroes & Villains Night
DESCRIPTION:Join us at the Neosho Newton County Library for a night of Heroes & Villains!! Dress up as your favorite hero or villain followed by games\, crafts\, and  activities. Admission is free. Bring the whole family! \n\n\n\nCostumes must be family friendly.
X-ALT-DESC;FMTTYPE=text/html:Join us at the Neosho Newton County Library for a night of Heroes &amp\; Villains!! Dress up as your favorite hero or villain followed by games\, crafts\, and&nbsp\; activities. Admission is free. Bring the whole family!&nbsp\;<br />\n<br />\nCostumes must be family friendly.
LOCATION:201 W Spring St Neosho\, MO 64850
UID:e.2144.18462
SEQUENCE:3
DTSTAMP:20260424T025915Z
URL:https://www.neoshocc.com/events/details/heroes-villains-night-18462
END:VEVENT

END:VCALENDAR
