BEGIN:VCALENDAR
VERSION:2.0
PRODID:-//ChamberMaster//Event Calendar 2.0//EN
METHOD:PUBLISH
X-PUBLISHED-TTL:P3D
REFRESH-INTERVAL:P3D
CALSCALE:GREGORIAN
BEGIN:VEVENT
DTSTART:20241030T143000Z
DTEND:20241030T160000Z
X-MICROSOFT-CDO-ALLDAYEVENT:FALSE
SUMMARY:Hocus Pocus and AI Focus: Unveiling the Myths Behind the Magic of AI
DESCRIPTION:This Halloween\, dive into the mysterious and captivating world of Artificial Intelligence with our themed training session - "Hocus Pocus and AI Focus: Unveiling the Myths Behind the Magic of AI" Join us as we shatter misconceptions\, uncover the true potential of AI\, and have a little spooky fun along the way!\n\n\n\nCourse Highlights\n\n\n\nSeparating Facts and Fiction: In the spirit of Halloween\, we'll embark on a journey to unmask the myths and legends surrounding AI. Just like a good ghost story\, there are many misconceptions about AI's capabilities and limitations. We'll cut through the fog and reveal the practical applications of AI that can transform your business. Discover the reality behind the AI magic and how it can drive success and innovation.\n\n\n\nBeyond the Status Quo: In the ever-changing landscape of business\, staying still is like being caught in a haunted house you need to find the exit to progress! Explore how AI can be your key to breaking free from the status quo and gaining a competitive edge. Learn how to leverage AI to create efficiencies\, drive innovation\, and keep your business ahead of the curve.\n\n\n\nInnovation in Action: Prepare to be captivated by stories from a diverse panel of experts students\, industry leaders\, and general users who have seamlessly integrated AI into their worlds. Whether they come from startups or established companies\, hear how they've bravely navigated the sometimes daunting path of AI adoption. Our panelists will share their firsthand experiences\, offering you practical insights and a clear roadmap to successfully incorporate AI into your own operations. You'll learn how students are pioneering new AI applications\, industry experts are driving innovation\, and general users are harnessing AI to enhance everyday tasks.\n\n\n\nInteractive Q&A Session: Have lingering questions about AI? Don't let them haunt you! Engage with our panel of experts in a lively Q&A session where your curiosities about AI will be addressed. This interactive dialogue will help you demystify AI's complexities\, empowering you to make informed decisions. Whether you're looking for practical advice or deeper understanding\, this is your chance to gain valuable insights.\n\n\n\nWho Should Attend:\n\n  Entrepreneurs and Business Owners\n\n  Students and Academics\n\n  Tech Enthusiasts and Innovators\n\n  Anyone Curious about the Future of Business
X-ALT-DESC;FMTTYPE=text/html:<span style="color: rgb(0\, 0\, 0)\; font-family: Lato\, Arial\, Helvetica\, sans-serif\; font-size: 16px\;">This Halloween\, dive into the mysterious and captivating world of Artificial Intelligence with our themed training session -&nbsp\;</span><b style="color: rgb(0\, 0\, 0)\; font-family: Lato\, Arial\, Helvetica\, sans-serif\; font-size: 16px\;">&quot\;Hocus Pocus and AI Focus: Unveiling the Myths Behind the Magic of AI&quot\;&nbsp\;</b><span style="color: rgb(0\, 0\, 0)\; font-family: Lato\, Arial\, Helvetica\, sans-serif\; font-size: 16px\;">Join us as we shatter misconceptions\, uncover the true potential of AI\, and have a little spooky fun along the way!</span><br style="color: rgb(0\, 0\, 0)\; font-family: Lato\, Arial\, Helvetica\, sans-serif\; font-size: 16px\;" />\n<br style="color: rgb(0\, 0\, 0)\; font-family: Lato\, Arial\, Helvetica\, sans-serif\; font-size: 16px\;" />\n<b style="color: rgb(0\, 0\, 0)\; font-family: Lato\, Arial\, Helvetica\, sans-serif\; font-size: 16px\;">Course Highlights</b><br style="color: rgb(0\, 0\, 0)\; font-family: Lato\, Arial\, Helvetica\, sans-serif\; font-size: 16px\;" />\n<br style="color: rgb(0\, 0\, 0)\; font-family: Lato\, Arial\, Helvetica\, sans-serif\; font-size: 16px\;" />\n<b style="color: rgb(0\, 0\, 0)\; font-family: Lato\, Arial\, Helvetica\, sans-serif\; font-size: 16px\;">Separating Facts and Fiction:</b><span style="color: rgb(0\, 0\, 0)\; font-family: Lato\, Arial\, Helvetica\, sans-serif\; font-size: 16px\;">&nbsp\;In the spirit of Halloween\, we&rsquo\;ll embark on a journey to unmask the myths and legends surrounding AI. Just like a good ghost story\, there are many misconceptions about AI&rsquo\;s capabilities and limitations. We&#39\;ll cut through the fog and reveal the practical applications of AI that can transform your business. Discover the reality behind the AI magic and how it can drive success and innovation.</span><br style="color: rgb(0\, 0\, 0)\; font-family: Lato\, Arial\, Helvetica\, sans-serif\; font-size: 16px\;" />\n<br style="color: rgb(0\, 0\, 0)\; font-family: Lato\, Arial\, Helvetica\, sans-serif\; font-size: 16px\;" />\n<b style="color: rgb(0\, 0\, 0)\; font-family: Lato\, Arial\, Helvetica\, sans-serif\; font-size: 16px\;">Beyond the Status Quo:</b><span style="color: rgb(0\, 0\, 0)\; font-family: Lato\, Arial\, Helvetica\, sans-serif\; font-size: 16px\;">&nbsp\;In the ever-changing landscape of business\, staying still is like being caught in a haunted house&mdash\;you need to find the exit to progress! Explore how AI can be your key to breaking free from the status quo and gaining a competitive edge. Learn how to leverage AI to create efficiencies\, drive innovation\, and keep your business ahead of the curve.</span><br style="color: rgb(0\, 0\, 0)\; font-family: Lato\, Arial\, Helvetica\, sans-serif\; font-size: 16px\;" />\n<br style="color: rgb(0\, 0\, 0)\; font-family: Lato\, Arial\, Helvetica\, sans-serif\; font-size: 16px\;" />\n<b style="color: rgb(0\, 0\, 0)\; font-family: Lato\, Arial\, Helvetica\, sans-serif\; font-size: 16px\;">Innovation in Action:</b><span style="color: rgb(0\, 0\, 0)\; font-family: Lato\, Arial\, Helvetica\, sans-serif\; font-size: 16px\;">&nbsp\;Prepare to be captivated by stories from a diverse panel of experts&mdash\;students\, industry leaders\, and general users&mdash\;who have seamlessly integrated AI into their worlds. Whether they come from startups or established companies\, hear how they&#39\;ve bravely navigated the sometimes daunting path of AI adoption. Our panelists will share their firsthand experiences\, offering you practical insights and a clear roadmap to successfully incorporate AI into your own operations. You&#39\;ll learn how students are pioneering new AI applications\, industry experts are driving innovation\, and general users are harnessing AI to enhance everyday tasks.</span><br style="color: rgb(0\, 0\, 0)\; font-family: Lato\, Arial\, Helvetica\, sans-serif\; font-size: 16px\;" />\n<br style="color: rgb(0\, 0\, 0)\; font-family: Lato\, Arial\, Helvetica\, sans-serif\; font-size: 16px\;" />\n<b style="color: rgb(0\, 0\, 0)\; font-family: Lato\, Arial\, Helvetica\, sans-serif\; font-size: 16px\;">Interactive Q&amp\;A Session:</b><span style="color: rgb(0\, 0\, 0)\; font-family: Lato\, Arial\, Helvetica\, sans-serif\; font-size: 16px\;">&nbsp\;Have lingering questions about AI? Don&rsquo\;t let them haunt you! Engage with our panel of experts in a lively Q&amp\;A session where your curiosities about AI will be addressed. This interactive dialogue will help you demystify AI&#39\;s complexities\, empowering you to make informed decisions. Whether you&rsquo\;re looking for practical advice or deeper understanding\, this is your chance to gain valuable insights.</span><br style="color: rgb(0\, 0\, 0)\; font-family: Lato\, Arial\, Helvetica\, sans-serif\; font-size: 16px\;" />\n<br style="color: rgb(0\, 0\, 0)\; font-family: Lato\, Arial\, Helvetica\, sans-serif\; font-size: 16px\;" />\n<b style="color: rgb(0\, 0\, 0)\; font-family: Lato\, Arial\, Helvetica\, sans-serif\; font-size: 16px\;">Who Should Attend:</b><br style="color: rgb(0\, 0\, 0)\; font-family: Lato\, Arial\, Helvetica\, sans-serif\; font-size: 16px\;" />\n<span style="color: rgb(0\, 0\, 0)\; font-family: Lato\, Arial\, Helvetica\, sans-serif\; font-size: 16px\;">&bull\; Entrepreneurs and Business Owners</span><br style="color: rgb(0\, 0\, 0)\; font-family: Lato\, Arial\, Helvetica\, sans-serif\; font-size: 16px\;" />\n<span style="color: rgb(0\, 0\, 0)\; font-family: Lato\, Arial\, Helvetica\, sans-serif\; font-size: 16px\;">&bull\; Students and Academics</span><br style="color: rgb(0\, 0\, 0)\; font-family: Lato\, Arial\, Helvetica\, sans-serif\; font-size: 16px\;" />\n<span style="color: rgb(0\, 0\, 0)\; font-family: Lato\, Arial\, Helvetica\, sans-serif\; font-size: 16px\;">&bull\; Tech Enthusiasts and Innovators</span><br style="color: rgb(0\, 0\, 0)\; font-family: Lato\, Arial\, Helvetica\, sans-serif\; font-size: 16px\;" />\n<span style="color: rgb(0\, 0\, 0)\; font-family: Lato\, Arial\, Helvetica\, sans-serif\; font-size: 16px\;">&bull\; Anyone Curious about the Future of Business</span>
LOCATION:Missouri Southern State University Plaster School of Business Cornell Auditorium
UID:e.2144.13739
SEQUENCE:3
DTSTAMP:20260424T190923Z
URL:https://www.neoshocc.com/events/details/hocus-pocus-and-ai-focus-unveiling-the-myths-behind-the-magic-of-ai-13739
END:VEVENT

END:VCALENDAR
