BEGIN:VCALENDAR
VERSION:2.0
PRODID:-//ChamberMaster//Event Calendar 2.0//EN
METHOD:PUBLISH
X-PUBLISHED-TTL:P3D
REFRESH-INTERVAL:P3D
CALSCALE:GREGORIAN
BEGIN:VEVENT
DTSTART:20241123T160000Z
DTEND:20241123T180000Z
X-MICROSOFT-CDO-ALLDAYEVENT:FALSE
SUMMARY:Holiday Market
DESCRIPTION:Celebrate the season at our 3rd Annual Holiday Market! Join us for a delightful day filled with festive shopping\, seasonal treats\, and joyful cheer. Explore a variety of unique gifts\, handcrafted items\, and holiday goodies from local vendors!
X-ALT-DESC;FMTTYPE=text/html:Celebrate the season at our 3rd Annual Holiday Market! Join us for a delightful day filled with festive shopping\, seasonal treats\, and joyful cheer. Explore a variety of unique gifts\, handcrafted items\, and holiday goodies from local vendors!&nbsp\;
LOCATION:Oak Point of Neosho 2601 Oak Ridge Ext. Neosho\, Mo. 64850
UID:e.2144.13915
SEQUENCE:3
DTSTAMP:20260424T173519Z
URL:https://www.neoshocc.com/events/details/holiday-market-13915
END:VEVENT

END:VCALENDAR
