BEGIN:VCALENDAR
VERSION:2.0
PRODID:-//ChamberMaster//Event Calendar 2.0//EN
METHOD:PUBLISH
X-PUBLISHED-TTL:P3D
REFRESH-INTERVAL:P3D
CALSCALE:GREGORIAN
BEGIN:VEVENT
DTSTART:20221209T230000Z
DTEND:20221210T030000Z
X-MICROSOFT-CDO-ALLDAYEVENT:FALSE
SUMMARY:Holiday Sip & Shop Pop Up Market
DESCRIPTION:
X-ALT-DESC;FMTTYPE=text/html:
LOCATION:Inside Shoe Sensation Neosho 1166 S. Neosho Blvd Neosho\, Mo 64850
UID:e.2144.8898
SEQUENCE:3
DTSTAMP:20260426T035531Z
URL:https://www.neoshocc.com/events/details/holiday-sip-shop-pop-up-market-8898
END:VEVENT

END:VCALENDAR
