BEGIN:VCALENDAR
VERSION:2.0
PRODID:-//ChamberMaster//Event Calendar 2.0//EN
METHOD:PUBLISH
X-PUBLISHED-TTL:P3D
REFRESH-INTERVAL:P3D
CALSCALE:GREGORIAN
BEGIN:VEVENT
DTSTART;VALUE=DATE:20221107
DTEND;VALUE=DATE:20221204
TRANSP:TRANSPARENT
X-MICROSOFT-CDO-ALLDAYEVENT:TRUE
SUMMARY:Holiday Toy Drive at America's Car-Mart
DESCRIPTION:Share the Joy\, Give a Toy! Starting now through December 3rd. Car-Mart associates will deliver the toys to children's hospitals in December!
X-ALT-DESC;FMTTYPE=text/html:Share the Joy\, Give a Toy! Starting now through December 3rd. Car-Mart associates will deliver the toys to children&#39\;s hospitals in December!
LOCATION:Bring your toys to Car-Mart located at: 311 S Neosho BLVD Neosho\, MO 64850
UID:e.2144.8908
SEQUENCE:3
DTSTAMP:20260426T035558Z
URL:https://www.neoshocc.com/events/details/holiday-toy-drive-at-america-s-car-mart-8908
END:VEVENT

END:VCALENDAR
