BEGIN:VCALENDAR
VERSION:2.0
PRODID:-//ChamberMaster//Event Calendar 2.0//EN
METHOD:PUBLISH
X-PUBLISHED-TTL:P3D
REFRESH-INTERVAL:P3D
CALSCALE:GREGORIAN
BEGIN:VEVENT
DTSTART:20241211T210000Z
DTEND:20241211T233000Z
X-MICROSOFT-CDO-ALLDAYEVENT:FALSE
SUMMARY:Holiday Wind Chime Class with April Davis
DESCRIPTION:Come out and make a holiday-themed wind chime at the gallery with artist April Davis! Perfect for a gift or just to add to your own holiday decorations.\n\n$40 per student\n\nAll materials provided\, as well as snacks and refreshments.\n\nTickets can be purchases online\, in-person at the gallery\, or you can call 417-312-8025 to reserve your spot.\n\nTicket link: https://square.link/u/zagCco78
X-ALT-DESC;FMTTYPE=text/html:<div>Come out and make a holiday-themed wind chime at the gallery with artist April Davis! Perfect for a gift or just to add to your own holiday decorations.</div>\n\n<div>$40 per student<br />\nAll materials provided\, as well as snacks and refreshments.</div>\n\n<div>Tickets can be purchases online\, in-person at the gallery\, or you can call 417-312-8025 to reserve your spot.</div>\n\n<p>Ticket link:&nbsp\;https://square.link/u/zagCco78</p>\n
LOCATION:Nighthawk Gallery. 102 E. Spring St. Neosho\, MO 64850
UID:e.2144.14151
SEQUENCE:3
DTSTAMP:20260424T161549Z
URL:https://www.neoshocc.com/events/details/holiday-wind-chime-class-with-april-davis-14151
END:VEVENT

END:VCALENDAR
