BEGIN:VCALENDAR
VERSION:2.0
PRODID:-//ChamberMaster//Event Calendar 2.0//EN
METHOD:PUBLISH
X-PUBLISHED-TTL:P3D
REFRESH-INTERVAL:P3D
CALSCALE:GREGORIAN
BEGIN:VEVENT
DTSTART;VALUE=DATE:20250718
DTEND;VALUE=DATE:20250719
TRANSP:TRANSPARENT
X-MICROSOFT-CDO-ALLDAYEVENT:TRUE
SUMMARY:Holly Crays Live 8pm-11pm
DESCRIPTION:Come enjoy the live talents of Holly Cray on the Osage Spring Stage!
X-ALT-DESC;FMTTYPE=text/html:Come enjoy the live talents of Holly Cray on the Osage Spring Stage!
LOCATION:200 E Spring Street Neosho\, MO 64850
UID:e.2144.17545
SEQUENCE:3
DTSTAMP:20260424T073851Z
URL:https://www.neoshocc.com/events/details/holly-crays-live-8pm-11pm-17545
END:VEVENT

END:VCALENDAR
