BEGIN:VCALENDAR
VERSION:2.0
PRODID:-//ChamberMaster//Event Calendar 2.0//EN
METHOD:PUBLISH
X-PUBLISHED-TTL:P3D
REFRESH-INTERVAL:P3D
CALSCALE:GREGORIAN
BEGIN:VEVENT
DTSTART:20251121T160000Z
DTEND:20251121T180000Z
X-MICROSOFT-CDO-ALLDAYEVENT:FALSE
SUMMARY:Fall 2025 Homeschool Schedule\, Session 4
DESCRIPTION:Homeschool students!! Join us as we explore and learn about the human body and do hands-on activities each session!
X-ALT-DESC;FMTTYPE=text/html:Homeschool students!! Join us as we explore and learn about the human body&nbsp\;and do hands-on activities each session!
LOCATION:201 West Spring Street Neosho\, MO 64850
UID:e.2144.18510
SEQUENCE:3
DTSTAMP:20260424T002521Z
URL:https://www.neoshocc.com/events/details/homeschool-schedule-session-5-18510
END:VEVENT

END:VCALENDAR
