BEGIN:VCALENDAR
VERSION:2.0
PRODID:-//ChamberMaster//Event Calendar 2.0//EN
METHOD:PUBLISH
X-PUBLISHED-TTL:P3D
REFRESH-INTERVAL:P3D
CALSCALE:GREGORIAN
BEGIN:VEVENT
DTSTART:20251213T143000Z
DTEND:20251213T160000Z
X-MICROSOFT-CDO-ALLDAYEVENT:FALSE
SUMMARY:Hotcakes with Santa & Special Guest
DESCRIPTION:Join us for McDonald's Hotcakes and pictures with Santa & the Grinch! \n\n\n\nSaturday\, December 13th \n\n8:30AM-10AM\n\n\n\nMcDonalds Neosho \n\n708 S. Neosho Blvd
X-ALT-DESC;FMTTYPE=text/html:Join us for McDonald&#39\;s Hotcakes and pictures with Santa &amp\; the Grinch!&nbsp\;<br />\n<br />\nSaturday\, December 13th&nbsp\;<br />\n8:30AM-10AM<br />\n<br />\nMcDonalds Neosho&nbsp\;<br />\n708 S. Neosho Blvd
LOCATION:McDonalds Neosho 708 S. Neosho Blvd
UID:e.2144.18795
SEQUENCE:3
DTSTAMP:20260423T225022Z
URL:https://www.neoshocc.com/events/details/hotcakes-with-santa-special-guest-18795
END:VEVENT

END:VCALENDAR
