BEGIN:VCALENDAR
VERSION:2.0
PRODID:-//ChamberMaster//Event Calendar 2.0//EN
METHOD:PUBLISH
X-PUBLISHED-TTL:P3D
REFRESH-INTERVAL:P3D
CALSCALE:GREGORIAN
BEGIN:VEVENT
DTSTART:20230209T220000Z
DTEND:20230210T000000Z
X-MICROSOFT-CDO-ALLDAYEVENT:FALSE
SUMMARY:House Party (Open House)
DESCRIPTION:Join West Cobb Alliance of ReeceNichols Real Estate at their House Party (Open House) on Thursday\, February 9th from 4:00 - 6:00 p.m.  Open House for "Just Listed" Properties.  Open to Everyone!  If you are looking to buy a home\, this is a great opportunity to tour and check out new properties that have just been listed before they are SOLD!\n\n\n\nReal Estate Agents are welcome to come\, plus\, bring your buyers!  Or\, you can send your buyers and let us know they are working with you.\n\n\n\nWestCobb Alliance Agents will be at the property to show the home and answer any questions!  \n\n\n\nVisit WestCobb Alliance Facebook Page at https://www.facebook.com/westcobballiance for more information.      \n\n\n\n**339 Patterson - Neosho**
X-ALT-DESC;FMTTYPE=text/html:Join West Cobb Alliance of ReeceNichols Real Estate at their House Party (Open House) on Thursday\, February 9th from 4:00 - 6:00 p.m.&nbsp\; Open House for &quot\;Just Listed&quot\; Properties.&nbsp\; Open to Everyone!&nbsp\; If you are looking to buy a home\, this is a great opportunity to tour and check out new properties that have just been listed before they are SOLD!<br />\n<br />\nReal Estate Agents are welcome to come\, plus\, bring your buyers!&nbsp\; Or\, you can send your buyers and let us know they are working with you.<br />\n<br />\nWestCobb Alliance Agents will be at the property to show the home and answer any questions!&nbsp\;&nbsp\;<br />\n<br />\nVisit WestCobb Alliance Facebook Page at <a href="https://www.facebook.com/westcobballiance">https://www.facebook.com/westcobballiance</a>&nbsp\;for more information.&nbsp\;&nbsp\;&nbsp\;&nbsp\;&nbsp\;&nbsp\;<br />\n<br />\n**339 Patterson - Neosho**<br />\n&nbsp\;
LOCATION:**339 Patterson - Neosho** WestCobb Alliance Facebook Page - https://www.facebook.com/westcobballiance
UID:e.2144.9083
SEQUENCE:3
DTSTAMP:20260426T004049Z
URL:https://www.neoshocc.com/events/details/house-party-open-house-02-09-2023-9083
END:VEVENT

END:VCALENDAR
