BEGIN:VCALENDAR
VERSION:2.0
PRODID:-//ChamberMaster//Event Calendar 2.0//EN
METHOD:PUBLISH
X-PUBLISHED-TTL:P3D
REFRESH-INTERVAL:P3D
CALSCALE:GREGORIAN
BEGIN:VEVENT
DTSTART:20221207T160000Z
DTEND:20221207T190000Z
X-MICROSOFT-CDO-ALLDAYEVENT:FALSE
SUMMARY:House Party (Open House)
DESCRIPTION:Join West Cobb Alliance of ReeceNichols Real Estate at their House Party (Open House) on Wednesday\, December 7th from 10:00 a.m. - 1:00 p.m. at 4528 & 4542 Old Highway 71 - Joplin.\n\n\n\nLooking for a 100.52 Acre Luxury Horse/Cattle Ranch with 2 Homes\, 2 Barns\, 3 Outbuildings\, Large Pond & Shared Lake? \n\n\n\nOpen to Everyone!  Real Estate Agents are welcome to come\, plus\, bring your buyers!  Or\, you can send your buyers and let us know they are working with you.\n\n\n\nWestCobb Alliance Agents will be giving tours at the property and will answer any questions!  \n\n\n\nVisit WestCobb Alliance Facebook Page at https://www.facebook.com/westcobballiance for more information.      \n\n\n\n**4528 & 4542 Old Highway 71 - Joplin**\n\n\n\nCome tour this amazing property!!
X-ALT-DESC;FMTTYPE=text/html:Join West Cobb Alliance of ReeceNichols Real Estate at their House Party (Open House) on Wednesday\, December 7th from 10:00 a.m. - 1:00 p.m. at 4528 &amp\; 4542 Old Highway 71 - Joplin.<br />\n<br />\nLooking for a 100.52 Acre Luxury Horse/Cattle Ranch with 2 Homes\, 2 Barns\, 3 Outbuildings\, Large Pond &amp\; Shared Lake?&nbsp\;<br />\n<br />\nOpen to Everyone!&nbsp\;&nbsp\;Real Estate Agents are welcome to come\, plus\, bring your buyers!&nbsp\; Or\, you can send your buyers and let us know they are working with you.<br />\n<br />\nWestCobb Alliance Agents will be giving tours at the property and will answer any questions!&nbsp\;&nbsp\;<br />\n<br />\nVisit WestCobb Alliance Facebook Page at <a href="https://www.facebook.com/westcobballiance">https://www.facebook.com/westcobballiance</a>&nbsp\;for more information.&nbsp\;&nbsp\;&nbsp\;&nbsp\;&nbsp\;&nbsp\;<br />\n<br />\n**4528 &amp\; 4542 Old Highway 71 - Joplin**<br />\n<br />\nCome tour this amazing property!!
LOCATION:**4528 & 4542 Old Highway 71 - Joplin** WestCobb Alliance Facebook Page - https://www.facebook.com/westcobballiance
UID:e.2144.8949
SEQUENCE:3
DTSTAMP:20260426T035436Z
URL:https://www.neoshocc.com/events/details/house-party-open-house-12-07-2022-8949
END:VEVENT

END:VCALENDAR
