BEGIN:VCALENDAR
VERSION:2.0
PRODID:-//ChamberMaster//Event Calendar 2.0//EN
METHOD:PUBLISH
X-PUBLISHED-TTL:P3D
REFRESH-INTERVAL:P3D
CALSCALE:GREGORIAN
BEGIN:VEVENT
DTSTART;VALUE=DATE:20221114
DTEND;VALUE=DATE:20221219
TRANSP:TRANSPARENT
X-MICROSOFT-CDO-ALLDAYEVENT:TRUE
SUMMARY:I'm Dreaming of a Local Christmas
DESCRIPTION:We are Dreaming of a Local Christmas!! Will you join us? \n\n \n\nAll you have to do is Shop Local this Christmas Season! Not only will you have the chance to support local businesses and complete your Christmas Shopping\, but you will also have a chance to win thousands of dollars in prizes!\n\nHow the program will work this year for community members:\n\n \n\nTo register to win a gift card:\n\n\n	Starting November 14th: post a selfie while shopping at one of our participating businesses on the pinned image on the Chamber's Facebook page (Neosho Area Chamber of Commerce). This gets you registered for one of our gift card or prize pack entries. One entry per shopper\, per business\, per day. \n\n To register for Grand Prize (4) $250 in ChamberBucks:\n\n\n	Download the Experience Neosho App in the Apple or Google Play store. Click the 'Shop' button\, click the "Dreaming of a Local Christmas" button\, and then click "Giveaway". Fill out the contact information and upload a picture of your receipt (at least $10) from one of our local businesses participating. One entry per shopper\, per business\, per day.  \n\n \n\nDeadline to register will be 11:59 PM on Sunday\, December 18th.
X-ALT-DESC;FMTTYPE=text/html:<div style="margin: 0px\; padding: 0px\; border: 0px\; font-variant-numeric: inherit\; font-variant-east-asian: inherit\; font-stretch: inherit\; font-size: 12pt\; line-height: inherit\; font-family: Calibri\, Arial\, Helvetica\, sans-serif\; vertical-align: baseline\; color: rgb(0\, 0\, 0)\;"><span style="color: rgb(5\, 5\, 5)\;"><span style="font-size:26px\;">We are Dreaming of a Local Christmas!! Will you join us?</span>&nbsp\;</span><br />\n<span style="margin: 0px\; padding: 0px\; border: 0px\; font-style: inherit\; font-variant: inherit\; font-weight: inherit\; font-stretch: inherit\; font-size: 14pt\; line-height: inherit\; font-family: inherit\; vertical-align: baseline\; color: inherit\;">&#8203\;</span></div>\n\n<div style="margin: 0px\; padding: 0px\; border: 0px\; font-variant-numeric: inherit\; font-variant-east-asian: inherit\; font-stretch: inherit\; line-height: inherit\; font-family: Calibri\, Arial\, Helvetica\, sans-serif\; vertical-align: baseline\; color: rgb(0\, 0\, 0)\;"><span style="font-size: 14pt\; margin: 0px\; padding: 0px\; border: 0px\; font-style: inherit\; font-variant: inherit\; font-weight: inherit\; font-stretch: inherit\; line-height: inherit\; font-family: inherit\; vertical-align: baseline\; color: inherit\;">All you have to do is Shop Local this Christmas Season!&nbsp\;Not only will you have the chance to support local businesses and complete your Christmas Shopping\, but you will also have a chance to win thousands of dollars in prizes!</span><br />\n<strong><span style="color:black\;"><span style="font-size:14.0pt\;">How the program will work this year for community members:</span></span></strong><br />\n&nbsp\;<br />\n<strong><span style="color:black\;"><span style="font-size:14.0pt\;">To register to win a gift card:</span></span></strong>\n\n<ul>\n	<li style="color:black\;margin-left:0in\;"><span style="font-size:13.0pt\;">Starting November 14th: post a selfie while shopping at one of our participating businesses on the pinned image on the Chamber&#39\;s Facebook page (<a href="https://www.facebook.com/neoshocc">Neosho Area Chamber of Commerce</a>). This gets you registered for one of our gift card or prize pack entries. One entry per shopper\, per business\, per day.&nbsp\;</span></li>\n</ul>\n&nbsp\;<strong><span style="color:black\;"><span style="font-size:14.0pt\;">To register for Grand Prize (4) $250 in ChamberBucks:</span></span></strong>\n\n<ul>\n	<li style="color:black\;margin-left:0in\;"><span style="font-size:13.0pt\;">Download the<em> Experience Neosho</em> App in the Apple or Google Play store. Click the &#39\;Shop&#39\; button\, click the &quot\;Dreaming of a Local Christmas&quot\; button\, and then click &quot\;Giveaway&quot\;. Fill out the contact information and upload a picture of your receipt (at least $10) from one of our local businesses participating.&nbsp\;<span style="background:white\;">One entry per shopper\, per business\, per day.&nbsp\; </span></span></li>\n</ul>\n&nbsp\;<br />\n<strong><span style="background:white\;"><span style="color:black\;"><span style="font-size:14.0pt\;">Deadline to register will be 11:59 PM on Sunday\, December 18<sup>th</sup>.</span></span></span></strong></div>\n
LOCATION:Shop Local
UID:e.2144.8911
SEQUENCE:3
DTSTAMP:20260426T035504Z
URL:https://www.neoshocc.com/events/details/i-m-dreaming-of-a-local-christmas-8911
END:VEVENT

END:VCALENDAR
