BEGIN:VCALENDAR
VERSION:2.0
PRODID:-//ChamberMaster//Event Calendar 2.0//EN
METHOD:PUBLISH
X-PUBLISHED-TTL:P3D
REFRESH-INTERVAL:P3D
CALSCALE:GREGORIAN
BEGIN:VEVENT
DTSTART:20260117T013000Z
DTEND:20260117T033000Z
X-MICROSOFT-CDO-ALLDAYEVENT:FALSE
SUMMARY:"Ice Skating Gnome" Painting Party
DESCRIPTION:Come paint with us! Cost is $35 per adult painter/$60.00 for couples. You must Pre-Pay! Includes all supplies and step-by-step instructions. Beginners welcome and all painters leave with a finished painting. So\, gather up your friends and lets paint together! There will also be door prizes on the night of the Paint Party! PLEASE NOTE: Arrive about 20 minutes early to order drinks and get prepped for painting.
X-ALT-DESC;FMTTYPE=text/html:<span style="background-color:rgb(255\, 255\, 255)\; color:rgb(63\, 75\, 99)\; font-family:ctsans\,sans-serif\; font-size:14px">Come paint with us! Cost is $35 per adult painter/$60.00 for couples. You must Pre-Pay! Includes all supplies and step-by-step instructions. Beginners welcome and all painters leave with a finished painting. So\, gather up your friends and lets paint together! There will also be door prizes on the night of the Paint Party! PLEASE NOTE: Arrive about 20 minutes early to order drinks and get prepped for painting.</span>
LOCATION:Country Charm Event Venue 18389 E. Hwy 86 Neosho\, MO 64850
UID:e.2144.18844
SEQUENCE:3
DTSTAMP:20260423T210720Z
URL:https://www.neoshocc.com/events/details/ice-skating-gnome-painting-party-18844
END:VEVENT

END:VCALENDAR
