BEGIN:VCALENDAR
VERSION:2.0
PRODID:-//ChamberMaster//Event Calendar 2.0//EN
METHOD:PUBLISH
X-PUBLISHED-TTL:P3D
REFRESH-INTERVAL:P3D
CALSCALE:GREGORIAN
BEGIN:VEVENT
DTSTART:20250910T160000Z
DTEND:20250910T173000Z
X-MICROSOFT-CDO-ALLDAYEVENT:FALSE
SUMMARY:Impact in Action
DESCRIPTION:Impact in Action \n\n\n\nDiscover\, Connect\, and Build Powerful Partnerships for Lasting Change! \n\n\n\n9.10.25\n\n11AM-12:30PM\n\n\n\nESC Cental Office - 302 S. Joplin\, Ave in Joplin\, Mo. \n\n$10 per person | Lunch Provided \n\n\n\nWe will spotlight the real stories of individuals whose lives have been transformed through our work\, while opening the door to new opportunities for collaboration. Together\, we'll explore how collective action\, and meaningful partnerships can build a stronger\, more resilient community.
X-ALT-DESC;FMTTYPE=text/html:Impact in Action&nbsp\;<br />\n<br />\nDiscover\, Connect\, and Build Powerful Partnerships for Lasting Change!&nbsp\;<br />\n<br />\n9.10.25<br />\n11AM-12:30PM<br />\n<br />\nESC Cental Office - 302 S. Joplin\, Ave in Joplin\, Mo.&nbsp\;<br />\n$10 per person | Lunch Provided&nbsp\;<br />\n<br />\nWe will spotlight the real stories of individuals whose lives have been transformed through our work\, while opening the door to new opportunities for collaboration. Together\, we&#39\;ll explore how collective action\, and meaningful partnerships can build a stronger\, more resilient community.
LOCATION:ESC Central Office 302 S Joplin Ave Joplin\, Mo.
UID:e.2144.18418
SEQUENCE:3
DTSTAMP:20260424T025628Z
URL:https://www.neoshocc.com/events/details/impact-in-action-18418
END:VEVENT

END:VCALENDAR
