BEGIN:VCALENDAR
VERSION:2.0
PRODID:-//ChamberMaster//Event Calendar 2.0//EN
METHOD:PUBLISH
X-PUBLISHED-TTL:P3D
REFRESH-INTERVAL:P3D
CALSCALE:GREGORIAN
BEGIN:VEVENT
DTSTART:20221212T200000Z
DTEND:20221212T210000Z
X-MICROSOFT-CDO-ALLDAYEVENT:FALSE
SUMMARY:Industry Childcare Needs Meetup
DESCRIPTION:Join the Neosho Area Chamber of Commerce & the MoKan Partnership and our Industry partners for a discussion of childcare needs for our area and discuss some upcoming funding opportunities.
X-ALT-DESC;FMTTYPE=text/html:Join the Neosho Area Chamber of Commerce &amp\; the MoKan Partnership and our Industry partners for a discussion of childcare needs for our area and discuss some upcoming funding opportunities.
LOCATION:Neosho Area Chamber of Commerce 216 W. Spring Neosho\, MO 64850
UID:e.2144.8950
SEQUENCE:3
DTSTAMP:20260426T035246Z
URL:https://www.neoshocc.com/events/details/industry-childcare-needs-meetup-8950
END:VEVENT

END:VCALENDAR
