BEGIN:VCALENDAR
VERSION:2.0
PRODID:-//ChamberMaster//Event Calendar 2.0//EN
METHOD:PUBLISH
X-PUBLISHED-TTL:P3D
REFRESH-INTERVAL:P3D
CALSCALE:GREGORIAN
BEGIN:VEVENT
DTSTART:20260104T190000Z
DTEND:20260104T200000Z
X-MICROSOFT-CDO-ALLDAYEVENT:FALSE
SUMMARY:Intentional Living: Creating Your Day on Purpose
DESCRIPTION:Intentional Living: Creating Your Day on Purpose\n\nDate: Sunday\, January 4   1 2 PM CST\n\nStart the year with clarity\, intention\, and a vision that inspires your next chapter.\n\nEvent Description:\n\nBegin 2026 with a powerful workshop designed to help you create your life on purpose not by default.\n\nIn this inspiring session\, you'll learn how to intentionally shape your days using mindful structure\, purpose-driven habits\, and a renewed sense of clarity.\n\nPLUS: We'll begin creating your personal Vision Board for 2026.\n\nYour vision board will serve as a visual anchor for your goals\, energy\, and intentions throughout the year\, a daily reminder of the life you're consciously choosing to create.\n\nThis workshop blends mindfulness\, life design\, and visualization practices to ignite your year with purpose and direction.\n\nYou'll leave with practical tools and the beginnings of your vision board to continue building at home.\n\nYou'll Learn:\n\n  How to design your day with clarity\, intention\, and purpose\n\n  Daily habits that align with your long-term goals\n\n  How to create an environment that supports focus and peace\n\n  How to start your 2026 Vision Board and why it works\n\n  The neuroscience behind visualization and intentional living\n\nWhat to Bring (Optional):\n\n  Magazines\, photos\, or printed words/images\n\n  A notebook or journal\n\n  Any personal symbols you'd like on your vision board\n\nWho This Is For:\n\nAnyone craving a fresh start\, deeper purpose\, or a meaningful structure for a new year filled with growth and clarity.\n\nCTA:\n\nSave your seat and begin your year with clarity\, intention\, and a powerful vision for what's possible.\n\nhttps://www.livebliss.org/event-details/intentional-living-creating-your-day-on-purpose
X-ALT-DESC;FMTTYPE=text/html:<h3><span style="background-color:transparent\; color:rgb(67\, 67\, 67)\; font-family:arial\,sans-serif\; font-size:14pt">Intentional Living: Creating Your Day on Purpose</span></h3>\n\n<p><strong>Date:</strong><span style="background-color:transparent\; color:rgb(0\, 0\, 0)\; font-family:tenor sans\,sans-serif\; font-size:11pt"> Sunday\, January 4 &bull\; 1&ndash\;2 PM CST</span></p>\n\n<p><span style="background-color:transparent\; color:rgb(0\, 0\, 0)\; font-family:tenor sans\,sans-serif\; font-size:11pt">Start the year with clarity\, intention\, and a vision that inspires your next chapter.</span></p>\n\n<h3><span style="background-color:transparent\; color:rgb(67\, 67\, 67)\; font-family:arial\,sans-serif\; font-size:14pt">Event Description:</span></h3>\n\n<p><span style="background-color:transparent\; color:rgb(0\, 0\, 0)\; font-family:tenor sans\,sans-serif\; font-size:11pt">Begin 2026 with a powerful workshop designed to help you </span><strong>create your life on purpose not by default</strong><span style="background-color:transparent\; color:rgb(0\, 0\, 0)\; font-family:tenor sans\,sans-serif\; font-size:11pt">.</span></p>\n\n<p><span style="background-color:transparent\; color:rgb(0\, 0\, 0)\; font-family:tenor sans\,sans-serif\; font-size:11pt">In this inspiring session\, you&rsquo\;ll learn how to intentionally shape your days using mindful structure\, purpose-driven habits\, and a renewed sense of clarity.</span></p>\n\n<p><strong>PLUS: We&rsquo\;ll begin creating your personal Vision Board for 2026.</strong></p>\n\n<p><span style="background-color:transparent\; color:rgb(0\, 0\, 0)\; font-family:tenor sans\,sans-serif\; font-size:11pt">Your vision board will serve as a visual anchor for your goals\, energy\, and intentions throughout the year\, a daily reminder of the life you&rsquo\;re consciously choosing to create.</span></p>\n\n<p><span style="background-color:transparent\; color:rgb(0\, 0\, 0)\; font-family:tenor sans\,sans-serif\; font-size:11pt">This workshop blends mindfulness\, life design\, and visualization practices to ignite your year with purpose and direction.</span></p>\n\n<p><span style="background-color:transparent\; color:rgb(0\, 0\, 0)\; font-family:tenor sans\,sans-serif\; font-size:11pt">You&rsquo\;ll leave with practical tools </span><em>and</em><span style="background-color:transparent\; color:rgb(0\, 0\, 0)\; font-family:tenor sans\,sans-serif\; font-size:11pt"> the beginnings of your vision board to continue building at home.</span></p>\n\n<p><span style="background-color:transparent\; color:rgb(67\, 67\, 67)\; font-family:arial\,sans-serif\; font-size:14pt">You&rsquo\;ll Learn:</span></p>\n\n<p><span style="background-color:transparent\; color:rgb(0\, 0\, 0)\; font-family:tenor sans\,sans-serif\; font-size:11pt">&bull\; How to design your day with clarity\, intention\, and purpose</span></p>\n\n<p><span style="background-color:transparent\; color:rgb(0\, 0\, 0)\; font-family:tenor sans\,sans-serif\; font-size:11pt">&bull\; Daily habits that align with your long-term goals</span></p>\n\n<p><span style="background-color:transparent\; color:rgb(0\, 0\, 0)\; font-family:tenor sans\,sans-serif\; font-size:11pt">&bull\; How to create an environment that supports focus and peace</span></p>\n\n<p><span style="background-color:transparent\; color:rgb(0\, 0\, 0)\; font-family:tenor sans\,sans-serif\; font-size:11pt">&bull\; </span><strong>How to start your 2026 Vision Board and why it works</strong></p>\n\n<p><span style="background-color:transparent\; color:rgb(0\, 0\, 0)\; font-family:tenor sans\,sans-serif\; font-size:11pt">&bull\; The neuroscience behind visualization and intentional living</span></p>\n\n<h3><span style="background-color:transparent\; color:rgb(67\, 67\, 67)\; font-family:arial\,sans-serif\; font-size:14pt">What to Bring (Optional):</span></h3>\n\n<p><span style="background-color:transparent\; color:rgb(0\, 0\, 0)\; font-family:tenor sans\,sans-serif\; font-size:11pt">&bull\; Magazines\, photos\, or printed words/images</span></p>\n\n<p><span style="background-color:transparent\; color:rgb(0\, 0\, 0)\; font-family:tenor sans\,sans-serif\; font-size:11pt">&bull\; A notebook or journal</span></p>\n\n<p><span style="background-color:transparent\; color:rgb(0\, 0\, 0)\; font-family:tenor sans\,sans-serif\; font-size:11pt">&bull\; Any personal symbols you&rsquo\;d like on your vision board</span></p>\n\n<p><span style="background-color:transparent\; color:rgb(67\, 67\, 67)\; font-family:arial\,sans-serif\; font-size:14pt">Who This Is For:</span></p>\n\n<p><span style="background-color:transparent\; color:rgb(0\, 0\, 0)\; font-family:tenor sans\,sans-serif\; font-size:11pt">Anyone craving a fresh start\, deeper purpose\, or a meaningful structure for a new year filled with growth and clarity.</span></p>\n\n<h3><span style="background-color:transparent\; color:rgb(67\, 67\, 67)\; font-family:arial\,sans-serif\; font-size:14pt">CTA:</span></h3>\n\n<p><span style="background-color:transparent\; color:rgb(0\, 0\, 0)\; font-family:tenor sans\,sans-serif\; font-size:11pt">Save your seat and begin your year with clarity\, intention\, and a powerful vision for what&rsquo\;s possible.</span></p>\n\n<p><a href="https://www.livebliss.org/event-details/intentional-living-creating-your-day-on-purpose" style="text-decoration-line: none\;"><span style="background-color:transparent\; color:rgb(17\, 85\, 204)\; font-family:arial\,sans-serif\; font-size:11pt">https://www.livebliss.org/event-details/intentional-living-creating-your-day-on-purpose</span></a></p>\n\n<div>&nbsp\;</div>\n
LOCATION:In Person - 404 S Neosho Blvd Suite D Neosho MO 64850 Virtually - Via Zoom
UID:e.2144.18826
SEQUENCE:3
DTSTAMP:20260423T210604Z
URL:https://www.neoshocc.com/events/details/intentional-living-creating-your-day-on-purpose-18826
END:VEVENT

END:VCALENDAR
