BEGIN:VCALENDAR
VERSION:2.0
PRODID:-//ChamberMaster//Event Calendar 2.0//EN
METHOD:PUBLISH
X-PUBLISHED-TTL:P3D
REFRESH-INTERVAL:P3D
CALSCALE:GREGORIAN
BEGIN:VEVENT
DTSTART:20240830T230000Z
DTEND:20240831T020000Z
X-MICROSOFT-CDO-ALLDAYEVENT:FALSE
SUMMARY:Interim Live Music at Eastside Social
DESCRIPTION:Interim is back to kick off your weekend. August 30th is a date you are not going to want to miss out on. See you downtown from 6pm to 9pm out on the patio!
X-ALT-DESC;FMTTYPE=text/html:Interim is back to kick off your weekend. August 30th is a date you are not going to want to miss out on. See you downtown from 6pm to 9pm out on the patio!
LOCATION:Eastside Social located at 113 S Washington St Neosho Mo
UID:e.2144.12237
SEQUENCE:3
DTSTAMP:20260424T215721Z
URL:https://www.neoshocc.com/events/details/interim-live-music-at-eastside-social-12237
END:VEVENT

END:VCALENDAR
