BEGIN:VCALENDAR
VERSION:2.0
PRODID:-//ChamberMaster//Event Calendar 2.0//EN
METHOD:PUBLISH
X-PUBLISHED-TTL:P3D
REFRESH-INTERVAL:P3D
CALSCALE:GREGORIAN
BEGIN:VEVENT
DTSTART;VALUE=DATE:20240725
DTEND;VALUE=DATE:20240729
TRANSP:TRANSPARENT
X-MICROSOFT-CDO-ALLDAYEVENT:TRUE
SUMMARY:It's Great To Be Eight!
DESCRIPTION:It's Great to be Eight\, thanks to you! Come celebrate with us at Miss Daisy's Sip & Shop event! Join us on July 25 from 5-7:30 PM  at our Joplin location or July 26 & 27 from 10 AM - 5 PM in Joplin and 10-4 in Neosho for fun\, refreshments\, and a chance to spin the wheel for prizes or savings. We'll also have a giveaway! We can't wait to see you!
X-ALT-DESC;FMTTYPE=text/html:<p>It&rsquo\;s Great to be Eight\, thanks to you! Come celebrate with us at Miss Daisy&#39\;s Sip &amp\; Shop event! Join us on July 25 from 5-7:30 PM&nbsp\; at our Joplin location or July 26 &amp\; 27 from 10 AM - 5 PM in Joplin and 10-4 in Neosho for fun\, refreshments\, and a chance to spin the wheel for prizes or savings. We&rsquo\;ll also have a giveaway! We can&#39\;t wait to see you!</p>\n
LOCATION:
UID:e.2144.12219
SEQUENCE:3
DTSTAMP:20260424T231937Z
URL:https://www.neoshocc.com/events/details/it-s-great-to-be-eight-12219
END:VEVENT

END:VCALENDAR
