BEGIN:VCALENDAR
VERSION:2.0
PRODID:-//ChamberMaster//Event Calendar 2.0//EN
METHOD:PUBLISH
X-PUBLISHED-TTL:P3D
REFRESH-INTERVAL:P3D
CALSCALE:GREGORIAN
BEGIN:VEVENT
DTSTART:20251025T010000Z
DTEND:20251025T040000Z
X-MICROSOFT-CDO-ALLDAYEVENT:FALSE
SUMMARY:Jackson Glasby Live on the Osage Stage
DESCRIPTION:Jackson Glasby! Live on the Osage Stage!  Solo acoustic singer/songwriter!
X-ALT-DESC;FMTTYPE=text/html:Jackson Glasby! Live on the Osage Stage!&nbsp\; Solo acoustic singer/songwriter!&nbsp\;
LOCATION:200 e Spring Street Neosho\, MO 64850
UID:e.2144.18551
SEQUENCE:3
DTSTAMP:20260424T014946Z
URL:https://www.neoshocc.com/events/details/jackson-glasby-live-on-the-osage-stage-18551
END:VEVENT

END:VCALENDAR
