BEGIN:VCALENDAR
VERSION:2.0
PRODID:-//ChamberMaster//Event Calendar 2.0//EN
METHOD:PUBLISH
X-PUBLISHED-TTL:P3D
REFRESH-INTERVAL:P3D
CALSCALE:GREGORIAN
BEGIN:VEVENT
DTSTART:20230326T000000Z
DTEND:20230326T210000Z
X-MICROSOFT-CDO-ALLDAYEVENT:FALSE
SUMMARY:Jessica Vosk
DESCRIPTION:Connect2Culture presents Jessica Vosk on Saturday\, March 25\, 7:00pm and Sunday\, March 26\, 4:00pm at the Harry M. Cornell Arts & Entertainment Complex! Celebrated singer and actress Jessica Vosk performs beloved repertoire from Broadway and the Great American Songbook during this stunning performance. Tickets are available at connect2culture.org/tickets or (417) 501-5550.
X-ALT-DESC;FMTTYPE=text/html:Connect2Culture presents Jessica Vosk on Saturday\, March 25\, 7:00pm and Sunday\, March 26\, 4:00pm at the Harry M. Cornell Arts &amp\; Entertainment Complex! Celebrated singer and actress Jessica Vosk performs beloved repertoire from Broadway and the Great American Songbook during this stunning performance. Tickets are available at connect2culture.org/tickets or (417) 501-5550.
LOCATION:Harry M. Cornell Arts & Entertainment Complex located at 212 West 7th Street Joplin\, MO\, 64801
UID:e.2144.9111
SEQUENCE:3
DTSTAMP:20260425T231827Z
URL:https://www.neoshocc.com/events/details/jessica-vosk-9111
END:VEVENT

END:VCALENDAR
