BEGIN:VCALENDAR
VERSION:2.0
PRODID:-//ChamberMaster//Event Calendar 2.0//EN
METHOD:PUBLISH
X-PUBLISHED-TTL:P3D
REFRESH-INTERVAL:P3D
CALSCALE:GREGORIAN
BEGIN:VEVENT
DTSTART:20251220T163000Z
DTEND:20251220T180000Z
X-MICROSOFT-CDO-ALLDAYEVENT:FALSE
SUMMARY:Jingle & Jam: A Holiday Sing-along\, Play-along Adventure!
DESCRIPTION:Jingle & Jam: A Holiday Sing-along\, Play-along Adventure!\n\n\n\nFREE for Everyone!\n\n\n\nSaturday\, December 20\n\n\n\n10:30 am to Noon\n\nDrop ins welcome at this come and go event\n\n\n\nNeosho National \n\nFish Hatchery\n\nMcKinney St./Hwy 86\, Neosho\, MO 64850\n\n\n\nIdeal for all ages \n\n\n\nAll experience levels welcome\n\n\n\n\n\nJoin us for an interactive music adventure! Explore musical instruments while playing and singing along to seasonal music. Perfect for kids\, families\, and music lovers of all ages to experience the thrill of music together!
X-ALT-DESC;FMTTYPE=text/html:Jingle &amp\; Jam: A Holiday Sing-along\, Play-along Adventure!<br />\n<br />\nFREE for Everyone!<br />\n<br />\nSaturday\, December 20<br />\n<br />\n10:30 am to Noon<br />\nDrop ins welcome at this come and go event<br />\n<br />\nNeosho National&nbsp\;<br />\nFish Hatchery<br />\nMcKinney St./Hwy 86\, Neosho\, MO 64850<br />\n<br />\nIdeal for all ages&nbsp\;<br />\n<br />\nAll experience levels welcome<br />\n<br />\n<br />\nJoin us for an interactive music adventure! Explore musical instruments while playing and singing along to seasonal music. Perfect for kids\, families\, and music lovers of all ages to experience the thrill of music together!
LOCATION:Neosho National Fish Hatchery McKinney St./Hwy 86\, Neosho\, MO 64850
UID:e.2144.18821
SEQUENCE:3
DTSTAMP:20260423T224957Z
URL:https://www.neoshocc.com/events/details/jingle-jam-a-holiday-sing-along-play-along-adventure-18821
END:VEVENT

END:VCALENDAR
