BEGIN:VCALENDAR
VERSION:2.0
PRODID:-//ChamberMaster//Event Calendar 2.0//EN
METHOD:PUBLISH
X-PUBLISHED-TTL:P3D
REFRESH-INTERVAL:P3D
CALSCALE:GREGORIAN
BEGIN:VEVENT
DTSTART:20230328T150000Z
DTEND:20230328T190000Z
X-MICROSOFT-CDO-ALLDAYEVENT:FALSE
SUMMARY:Job Fair & Career Expo hosted by Crowder College
DESCRIPTION:Crowder College will host a Job Fair & Career Expo Tuesday\, May 28 from 10am - 2pm in the Bob Sneller Gymnasium (601 Laclede Ave.\, Neosho\, MO 64850). Free and open to the public! Meet over 50 area employers\, apply for jobs\, find your next career\, and learn more about opportunities at Crowder! Participants may register for prizes at the event.\n\n\n\nQuestions? Contact 417.455.5618\, CareerServices@Crowder.edu
X-ALT-DESC;FMTTYPE=text/html:Crowder College will host a&nbsp\;Job Fair &amp\; Career Expo Tuesday\, May 28 from 10am - 2pm in the Bob Sneller Gymnasium (601 Laclede Ave.\, Neosho\, MO 64850). Free and open to the public! Meet over 50 area employers\, apply for jobs\, find your next career\, and learn more about opportunities at Crowder! Participants may register for prizes at the event.<br />\n<br />\nQuestions? Contact 417.455.5618\, CareerServices@Crowder.edu
LOCATION:Crowder College Bob Sneller Gymnasium (601 Laclede Ave.\, Neosho\, MO 64850)
UID:e.2144.9127
SEQUENCE:3
DTSTAMP:20260425T232315Z
URL:https://www.neoshocc.com/events/details/job-fair-career-expo-hosted-by-crowder-college-9127
END:VEVENT

END:VCALENDAR
