BEGIN:VCALENDAR
VERSION:2.0
PRODID:-//ChamberMaster//Event Calendar 2.0//EN
METHOD:PUBLISH
X-PUBLISHED-TTL:P3D
REFRESH-INTERVAL:P3D
CALSCALE:GREGORIAN
BEGIN:VEVENT
DTSTART:20240823T230000Z
DTEND:20240824T020000Z
X-MICROSOFT-CDO-ALLDAYEVENT:FALSE
SUMMARY:Johnny Dale Roberts Live Music at Eastside Social
DESCRIPTION:Johnny Dale Roberts will be jamming out at Eastside Social on August 23rd from 6pm to 9pm. We are going to have a great time. Mark your calendars you will not want to miss this!
X-ALT-DESC;FMTTYPE=text/html:Johnny Dale Roberts will be jamming out at Eastside Social on August 23rd from 6pm to 9pm. We are going to have a great time. Mark your calendars you will not want to miss this!
LOCATION:Eastside Social located at 113 S Washington St. Neosho Mo
UID:e.2144.12236
SEQUENCE:3
DTSTAMP:20260424T232609Z
URL:https://www.neoshocc.com/events/details/johnny-dale-roberts-live-music-at-eastside-social-12236
END:VEVENT

END:VCALENDAR
