BEGIN:VCALENDAR
VERSION:2.0
PRODID:-//ChamberMaster//Event Calendar 2.0//EN
METHOD:PUBLISH
X-PUBLISHED-TTL:P3D
REFRESH-INTERVAL:P3D
CALSCALE:GREGORIAN
BEGIN:VEVENT
DTSTART:20230406T170000Z
DTEND:20230406T180000Z
X-MICROSOFT-CDO-ALLDAYEVENT:FALSE
SUMMARY:Join Crowder College in Celebrating 60 Years!
DESCRIPTION:Crowder College in celebrating 60 years of service to our community! Join us Thursday\, April 6 at 12pm in the Wright Conference Center\, Arnold Farber Hall (601 Laclede Ave.\, Neosho) for cake\, punch and music! Wear your Crowder blue and let's celebrate!\n\n\n\nPaint the Town Blue! We would love to see your Crowder spirit! Decorate your business\, paint windows\, balloons\, streamers - paint the town BLUE! Share your spirit! Email your "Paint the Town Blue" picture to Info@Crowder.edu or tag @CrowderCollege on social media\, use #Crowder60
X-ALT-DESC;FMTTYPE=text/html:<strong>Crowder College in celebrating 60 years of service to our community! </strong>Join us Thursday\, April 6 at 12pm in the Wright Conference Center\, Arnold Farber Hall (601 Laclede Ave.\, Neosho) for cake\, punch and music! Wear your Crowder blue and let&#39\;s celebrate!<br />\n<br />\n<strong>Paint the Town Blue!&nbsp\;</strong>We would love to see your Crowder spirit! Decorate your business\, paint windows\, balloons\, streamers - paint the town BLUE! Share your spirit! Email your &quot\;Paint the Town Blue&quot\; picture to Info@Crowder.edu or tag @CrowderCollege on social media\, use #Crowder60
LOCATION:Crowder College Wright Conference Center\, Arnold Farber Hall (601 Laclede Ave.\, Neosho)
UID:e.2144.9406
SEQUENCE:3
DTSTAMP:20260425T232124Z
URL:https://www.neoshocc.com/events/details/join-crowder-college-in-celebrating-60-years-9406
END:VEVENT

END:VCALENDAR
