BEGIN:VCALENDAR
VERSION:2.0
PRODID:-//ChamberMaster//Event Calendar 2.0//EN
METHOD:PUBLISH
X-PUBLISHED-TTL:P3D
REFRESH-INTERVAL:P3D
CALSCALE:GREGORIAN
BEGIN:VEVENT
DTSTART:20240714T000000Z
DTEND:20240714T030000Z
X-MICROSOFT-CDO-ALLDAYEVENT:FALSE
SUMMARY:JOMO Jammin'
DESCRIPTION:Join Connect2Culture this summer for the return of our JOMO Jammin' Music Festival! This summer music festival celebrates local talent and features two area bands each Saturday. This year's festival will be held inside our home theatre\, the Beshore Performance Hall at the Cornell Complex. This year's festival is made possible by Freeman Health System! MoonShroom + Eureka Strings Saturday | July 6th (Genre: Country/Ozark Folk) Modeling + Fox Royale Saturday | July 13th (Genre: Indie Rock) Rochelle Bradshaw & Hypnotion + Mariachi Flor de Missouri Saturday | July 20th (Genre: World Music) Brock Wade Band + The Mixtapes Saturday | July 27th (Genre: Cover/Tribute)
X-ALT-DESC;FMTTYPE=text/html:Join Connect2Culture this summer for the return of our JOMO Jammin&#39\; Music Festival! This summer music festival celebrates local talent and features two area bands each Saturday. This year&#39\;s festival will be held inside our home theatre\, the Beshore Performance Hall at the Cornell Complex. This year&#39\;s festival is made possible by Freeman Health System! MoonShroom + Eureka Strings Saturday | July 6th (Genre: Country/Ozark Folk) Modeling + Fox Royale Saturday | July 13th (Genre: Indie Rock) Rochelle Bradshaw &amp\; Hypnotion + Mariachi Flor de Missouri Saturday | July 20th (Genre: World Music) Brock Wade Band + The Mixtapes Saturday | July 27th (Genre: Cover/Tribute)
LOCATION:This year's festival will be held inside C2C's home theatre\, the Beshore Performance Hall at the Cornell Complex.
UID:e.2144.12210
SEQUENCE:3
DTSTAMP:20260424T232018Z
URL:https://www.neoshocc.com/events/details/jomo-jammin-07-13-2024-12210
END:VEVENT

END:VCALENDAR
