BEGIN:VCALENDAR
VERSION:2.0
PRODID:-//ChamberMaster//Event Calendar 2.0//EN
METHOD:PUBLISH
X-PUBLISHED-TTL:P3D
REFRESH-INTERVAL:P3D
CALSCALE:GREGORIAN
BEGIN:VEVENT
DTSTART:20230716T000000Z
DTEND:20230716T030000Z
X-MICROSOFT-CDO-ALLDAYEVENT:FALSE
SUMMARY:JOMO Jammin'
DESCRIPTION:Join Connect2Culture this summer for the return of our JOMO Jammin' Music Festival! This outdoor summer music festival celebrates local talent and features two area bands each Saturday on the Leggett & Platt Green at the Cornell Complex. This year's festival is made possible by Freeman Health System. Patti Steel and Dance Monkey Dance! Saturday | July 15th (Genre: Americana)
X-ALT-DESC;FMTTYPE=text/html:Join Connect2Culture this summer for the return of our JOMO Jammin&#39\; Music Festival! This outdoor summer music festival celebrates local talent and features two area bands each Saturday on the Leggett &amp\; Platt Green at the Cornell Complex. This year&#39\;s festival is made possible by Freeman Health System. Patti Steel and Dance Monkey Dance! Saturday | July 15th (Genre: Americana)
LOCATION:Harry M. Cornell Arts and Entertainment Complex located 212 West 7th St. Joplin\, MO
UID:e.2144.10495
SEQUENCE:3
DTSTAMP:20260425T184106Z
URL:https://www.neoshocc.com/events/details/jomo-jammin-07-15-2023-10495
END:VEVENT

END:VCALENDAR
