BEGIN:VCALENDAR
VERSION:2.0
PRODID:-//ChamberMaster//Event Calendar 2.0//EN
METHOD:PUBLISH
X-PUBLISHED-TTL:P3D
REFRESH-INTERVAL:P3D
CALSCALE:GREGORIAN
BEGIN:VEVENT
DTSTART:20230730T000000Z
DTEND:20230730T030000Z
X-MICROSOFT-CDO-ALLDAYEVENT:FALSE
SUMMARY:JOMO Jammin'
DESCRIPTION:Join Connect2Culture this summer for the return of our JOMO Jammin' Music Festival! This outdoor summer music festival celebrates local talent and features two area bands each Saturday on the Leggett & Platt Green at the Cornell Complex. This year's festival is made possible by Freeman Health System. Jomo Jazz and NWA Jazz & More Orchestra Saturday | July 29th (Genre: Jazz)
X-ALT-DESC;FMTTYPE=text/html:Join Connect2Culture this summer for the return of our JOMO Jammin&#39\; Music Festival! This outdoor summer music festival celebrates local talent and features two area bands each Saturday on the Leggett &amp\; Platt Green at the Cornell Complex. This year&#39\;s festival is made possible by Freeman Health System. Jomo Jazz and NWA Jazz &amp\; More Orchestra Saturday | July 29th (Genre: Jazz)
LOCATION:Harry M. Cornell Arts and Entertainment Complex located at 212 West 7th St. Joplin\, MO
UID:e.2144.10497
SEQUENCE:3
DTSTAMP:20260425T170822Z
URL:https://www.neoshocc.com/events/details/jomo-jammin-07-29-2023-10497
END:VEVENT

END:VCALENDAR
