BEGIN:VCALENDAR
VERSION:2.0
PRODID:-//ChamberMaster//Event Calendar 2.0//EN
METHOD:PUBLISH
X-PUBLISHED-TTL:P3D
REFRESH-INTERVAL:P3D
CALSCALE:GREGORIAN
BEGIN:VEVENT
DTSTART:20231001T000000Z
DTEND:20231001T020000Z
X-MICROSOFT-CDO-ALLDAYEVENT:FALSE
SUMMARY:Jordan Smith
DESCRIPTION:An American singer\, songwriter\, and musician\, Kentucky native Jordan Smith's singing career began on the stage of his childhood church\, where he sang in the choir. Smith continued to hone his skills and foster his passion for music while attending Lee University. In his senior year of college\, Smith was thrust into the spotlight after competing and eventually winning season nine of NBC's The Voice. His time on the singing competition not only cemented his natural talent as a musician\, but also launched his singing career as one of the show's best selling artists. With three chart-topping albums\, Smith's powerhouse delivery and expansive range remain instantly identifiable and inimitable. See this incredible vocalist take the stage at the Cornell Complex for an unforgettable night of music!
X-ALT-DESC;FMTTYPE=text/html:An American singer\, songwriter\, and musician\, Kentucky native Jordan Smith&rsquo\;s singing career began on the stage of his childhood church\, where he sang in the choir. Smith continued to hone his skills and foster his passion for music while attending Lee University. In his senior year of college\, Smith was thrust into the spotlight after competing and eventually winning season nine of NBC&rsquo\;s The Voice. His time on the singing competition not only cemented his natural talent as a musician\, but also launched his singing career as one of the show&#39\;s best selling artists. With three chart-topping albums\, Smith&rsquo\;s powerhouse delivery and expansive range remain instantly identifiable and inimitable. See this incredible vocalist take the stage at the Cornell Complex for an unforgettable night of music!
LOCATION:Harry M. Cornell Arts & Entertainment Complex located at 212 West 7th Street. Joplin\, MO 64801
UID:e.2144.10785
SEQUENCE:3
DTSTAMP:20260425T140548Z
URL:https://www.neoshocc.com/events/details/jordan-smith-10785
END:VEVENT

END:VCALENDAR
