BEGIN:VCALENDAR
VERSION:2.0
PRODID:-//ChamberMaster//Event Calendar 2.0//EN
METHOD:PUBLISH
X-PUBLISHED-TTL:P3D
REFRESH-INTERVAL:P3D
CALSCALE:GREGORIAN
BEGIN:VEVENT
DTSTART:20241117T000000Z
DTEND:20241117T030000Z
X-MICROSOFT-CDO-ALLDAYEVENT:FALSE
SUMMARY:Josh Larson Live at Eastside Social
DESCRIPTION:Get ready for an unforgettable evening at Eastside Social! ?? Josh Larson returns on November 16th\, bringing his signature sound and electrifying energy. From 6 PM to 9 PM\, enjoy live music\, great vibes\, and good company. Mark your calendars and come early to grab a spot it's going to be a night you won't want to miss!
X-ALT-DESC;FMTTYPE=text/html:<p>Get ready for an unforgettable evening at Eastside Social! ?? Josh Larson returns on November 16th\, bringing his signature sound and electrifying energy. From 6 PM to 9 PM\, enjoy live music\, great vibes\, and good company. Mark your calendars and come early to grab a spot&mdash\;it&#39\;s going to be a night you won&#39\;t want to miss!</p>\n
LOCATION:Eastside Social 113 S Washington St. Neosho\, Mo
UID:e.2144.13749
SEQUENCE:3
DTSTAMP:20260424T173649Z
URL:https://www.neoshocc.com/events/details/josh-larson-live-at-eastside-social-13749
END:VEVENT

END:VCALENDAR
