BEGIN:VCALENDAR
VERSION:2.0
PRODID:-//ChamberMaster//Event Calendar 2.0//EN
METHOD:PUBLISH
X-PUBLISHED-TTL:P3D
REFRESH-INTERVAL:P3D
CALSCALE:GREGORIAN
BEGIN:VEVENT
DTSTART:20240802T210000Z
DTEND:20240803T010000Z
X-MICROSOFT-CDO-ALLDAYEVENT:FALSE
SUMMARY:Just Desserts - Wine Tasting/Pairing
DESCRIPTION:Sho Me Sugar & Pennington Wine are joining forces to bring you a come and go event to explore different wine tastes and have them paired with different desserts!  Come join the fun evening!
X-ALT-DESC;FMTTYPE=text/html:Sho Me Sugar &amp\; Pennington Wine are joining forces to bring you a come and go event to explore different wine tastes and have them paired with different desserts! &nbsp\;Come join the fun evening!
LOCATION:Sho Me Sugar 204 E Spring St Neosho Mo 64850
UID:e.2144.12232
SEQUENCE:3
DTSTAMP:20260424T215449Z
URL:https://www.neoshocc.com/events/details/just-desserts-wine-tasting-pairing-12232
END:VEVENT

END:VCALENDAR
