BEGIN:VCALENDAR
VERSION:2.0
PRODID:-//ChamberMaster//Event Calendar 2.0//EN
METHOD:PUBLISH
X-PUBLISHED-TTL:P3D
REFRESH-INTERVAL:P3D
CALSCALE:GREGORIAN
BEGIN:VEVENT
DTSTART:20241026T000000Z
DTEND:20241026T020000Z
X-MICROSOFT-CDO-ALLDAYEVENT:FALSE
SUMMARY:Kalo Music/Creep-N-Crawl
DESCRIPTION:The fierce Kalo will be rocking the stage at Indian Springs Brewing Company for the big Halloween Creep-n-Crawl downtown. See you in costume!
X-ALT-DESC;FMTTYPE=text/html:<span background-color:="" font-size:="" segoe="" ui="">The fierce Kalo will be rocking the stage at Indian Springs Brewing Company for the big Halloween Creep-n-Crawl downtown. See you in costume!</span>
LOCATION:Indian Springs Brewing Company 109 E Main St\, Neosho\, Mo.
UID:e.2144.13745
SEQUENCE:3
DTSTAMP:20260424T190809Z
URL:https://www.neoshocc.com/events/details/kalo-music-creep-n-crawl-13745
END:VEVENT

END:VCALENDAR
