BEGIN:VCALENDAR
VERSION:2.0
PRODID:-//ChamberMaster//Event Calendar 2.0//EN
METHOD:PUBLISH
X-PUBLISHED-TTL:P3D
REFRESH-INTERVAL:P3D
CALSCALE:GREGORIAN
BEGIN:VEVENT
DTSTART:20240720T230000Z
DTEND:20240721T020000Z
X-MICROSOFT-CDO-ALLDAYEVENT:FALSE
SUMMARY:Karaoke at Eastside Social for the Block Party
DESCRIPTION:The Neosho Downtown Merchants are putting on a Block Party for Downtown Neosho. Eastside Social will be hosting Karaoke from 6pm to 9pm. All ages are welcome! We can not wait to jam out on the patio with everyone. See ya then!
X-ALT-DESC;FMTTYPE=text/html:The Neosho Downtown Merchants are putting on a Block Party for Downtown Neosho. Eastside Social will be hosting Karaoke from 6pm to 9pm. All ages are welcome! We can not wait to jam out on the patio with everyone. See ya then!
LOCATION:Eastside Social Patio
UID:e.2144.12217
SEQUENCE:3
DTSTAMP:20260424T232842Z
URL:https://www.neoshocc.com/events/details/karaoke-at-eastside-social-for-the-block-party-12217
END:VEVENT

END:VCALENDAR
