BEGIN:VCALENDAR
VERSION:2.0
PRODID:-//ChamberMaster//Event Calendar 2.0//EN
METHOD:PUBLISH
X-PUBLISHED-TTL:P3D
REFRESH-INTERVAL:P3D
CALSCALE:GREGORIAN
BEGIN:VEVENT
DTSTART:20241025T230000Z
DTEND:20241026T020000Z
X-MICROSOFT-CDO-ALLDAYEVENT:FALSE
SUMMARY:Karaoke at Eastside Social- Halloween Creep and Crawl
DESCRIPTION:?? Downtown Halloween Bash! ??\n\nThe Downtown Merchants are back at it again\, and this time it's all about Halloween! ?? Join us for a spooky evening filled with fun activities\, including a costume contest\, karaoke\, and the chance to sip and stroll around the square. Get your costumes ready and don't miss out on the Halloween fun!
X-ALT-DESC;FMTTYPE=text/html:<span style="font-size:16px"><span style="color:rgb(35\, 31\, 32)\; font-family:brandon-grotesque">?? </span><strong>Downtown Halloween Bash!</strong><span style="color:rgb(35\, 31\, 32)\; font-family:brandon-grotesque"> ??</span><br />\n<span style="color:rgb(35\, 31\, 32)\; font-family:brandon-grotesque">The Downtown Merchants are back at it again\, and this time it&rsquo\;s all about Halloween! ?? Join us for a spooky evening filled with fun activities\, including a costume contest\, karaoke\, and the chance to sip and stroll around the square. Get your costumes ready and don&rsquo\;t miss out on the Halloween fun!</span></span>
LOCATION:113 S Washington St Neosho\, Mo at Eastside Social
UID:e.2144.13060
SEQUENCE:3
DTSTAMP:20260424T190851Z
URL:https://www.neoshocc.com/events/details/karaoke-at-eastside-social-halloween-creep-and-crawl-13060
END:VEVENT

END:VCALENDAR
