BEGIN:VCALENDAR
VERSION:2.0
PRODID:-//ChamberMaster//Event Calendar 2.0//EN
METHOD:PUBLISH
X-PUBLISHED-TTL:P3D
REFRESH-INTERVAL:P3D
CALSCALE:GREGORIAN
BEGIN:VEVENT
DTSTART;VALUE=DATE:20250705
DTEND;VALUE=DATE:20250706
TRANSP:TRANSPARENT
X-MICROSOFT-CDO-ALLDAYEVENT:TRUE
SUMMARY:Karaoke Blast
DESCRIPTION:Come celebrate The 4th of July Weekend at Osage Spring!  Karaoke Blast!  Starts at 7pm!  Sing your heart out!
X-ALT-DESC;FMTTYPE=text/html:Come celebrate The 4th of July Weekend at Osage Spring!&nbsp\; Karaoke Blast!&nbsp\; Starts at 7pm!&nbsp\; Sing your heart out!&nbsp\;
LOCATION:200 E Spring St. Neosho\, MO 64850
UID:e.2144.17113
SEQUENCE:3
DTSTAMP:20260424T060058Z
URL:https://www.neoshocc.com/events/details/karaoke-blast-17113
END:VEVENT

END:VCALENDAR
