BEGIN:VCALENDAR
VERSION:2.0
PRODID:-//ChamberMaster//Event Calendar 2.0//EN
METHOD:PUBLISH
X-PUBLISHED-TTL:P3D
REFRESH-INTERVAL:P3D
CALSCALE:GREGORIAN
BEGIN:VEVENT
DTSTART:20240504T210000Z
DTEND:20240505T010000Z
X-MICROSOFT-CDO-ALLDAYEVENT:FALSE
SUMMARY:Kentucky Derby Party
DESCRIPTION:Join us Saturday May 4th for games\, prizes\, food\, & fun at our second annual Kentucky Derby Party!\n\n\n\n$25 Tickets include one cocktail\, hors d'oeuvres bar\, and race after party at Indian Springs Brewing.\n\n\n\nPRIZES FOR WINNING HORSE\, BEST DRESSED\, BEST HAT\, SILENT AUCTION ITEMS and MORE!!\n\nPurchase your tickets at Briar & Thistle
X-ALT-DESC;FMTTYPE=text/html:<div>Join us Saturday May 4th for games\, prizes\, food\, &amp\; fun at our second annual Kentucky Derby Party!<br />\n<br />\n$25 Tickets include one cocktail\, hors d&#39\;oeuvres bar\, and race after party at Indian Springs Brewing.</div>\n\n<div><br />\nPRIZES FOR WINNING HORSE\, BEST DRESSED\, BEST HAT\, SILENT AUCTION ITEMS and MORE!!<br />\nPurchase your tickets at Briar &amp\; Thistle&nbsp\;\n<div style="text-align:inherit">&nbsp\;</div>\n</div>\n
LOCATION:Indian Springs Brewery 109 E Main St. Neosho MO 64850
UID:e.2144.11918
SEQUENCE:3
DTSTAMP:20260425T031447Z
URL:https://www.neoshocc.com/events/details/kentucky-derby-party-11918
END:VEVENT

END:VCALENDAR
