BEGIN:VCALENDAR
VERSION:2.0
PRODID:-//ChamberMaster//Event Calendar 2.0//EN
METHOD:PUBLISH
X-PUBLISHED-TTL:P3D
REFRESH-INTERVAL:P3D
CALSCALE:GREGORIAN
BEGIN:VEVENT
DTSTART:20241026T230000Z
DTEND:20241027T020000Z
X-MICROSOFT-CDO-ALLDAYEVENT:FALSE
SUMMARY:KKDA Annual Halloween Dance
DESCRIPTION:Kara's Kicks Dance Alliance\, a locally owned dance studio\, would like to invite the families of Neosho for a night of Halloween fun in a safe and warm environment! This is for kids of all ages and yes\, even the adult "kids at heart!" We have dancing\, games\, and a costume contest! Get the whole fam dressed up and come enjoy making memories together! This is our favorite event of the year\, we hope you'll join us!
X-ALT-DESC;FMTTYPE=text/html:Kara&rsquo\;s Kicks Dance Alliance\, a locally owned dance studio\, would like to invite the families of Neosho for a night of Halloween fun in a safe and warm environment! This is for kids of all ages and yes\, even the adult &ldquo\;kids at heart!&rdquo\; We have dancing\, games\, and a costume contest! Get the whole fam dressed up and come enjoy making memories together!&nbsp\;This is our favorite event of the year\, we hope you&rsquo\;ll join us!&nbsp\;
LOCATION:13740 Phillip Ln. Neosho
UID:e.2144.13113
SEQUENCE:3
DTSTAMP:20260424T190517Z
URL:https://www.neoshocc.com/events/details/kkda-annual-halloween-dance-13113
END:VEVENT

END:VCALENDAR
