BEGIN:VCALENDAR
VERSION:2.0
PRODID:-//ChamberMaster//Event Calendar 2.0//EN
METHOD:PUBLISH
X-PUBLISHED-TTL:P3D
REFRESH-INTERVAL:P3D
CALSCALE:GREGORIAN
BEGIN:VEVENT
DTSTART:20251018T230000Z
DTEND:20251019T020000Z
X-MICROSOFT-CDO-ALLDAYEVENT:FALSE
SUMMARY:KKDA Annual Halloween Dance & Costume Contest
DESCRIPTION:Join us for our annual Halloween Dance!\n\n\n\nOur goal when we began this event was to provide a SAFE and FUN event for Neosho and surrounding area families! Rain and cold weather wont keep us from partying! This is such a highlight of the year for kids AND adults! Get the whole family decked out and join us for a fun night! \n\n\n\nThis event is hosted and ran by our competition team and their parents!
X-ALT-DESC;FMTTYPE=text/html:Join us for our annual Halloween Dance!<br />\n<br />\nOur goal when we began this event was to provide a SAFE and FUN event for Neosho and surrounding area families! Rain and cold weather wont keep us from partying! This is such a highlight of the year for kids AND adults! Get the whole family decked out and join us for a fun night!&nbsp\;<br />\n<br />\nThis event is hosted and ran by our competition team and their parents!
LOCATION:13740 Phillip Ln Neosho Mo. located behind Midway Vet!
UID:e.2144.18535
SEQUENCE:3
DTSTAMP:20260424T015759Z
URL:https://www.neoshocc.com/events/details/kkda-annual-halloween-dance-costume-contest-18535
END:VEVENT

END:VCALENDAR
