BEGIN:VCALENDAR
VERSION:2.0
PRODID:-//ChamberMaster//Event Calendar 2.0//EN
METHOD:PUBLISH
X-PUBLISHED-TTL:P3D
REFRESH-INTERVAL:P3D
CALSCALE:GREGORIAN
BEGIN:VEVENT
DTSTART:20241012T170000Z
DTEND:20241012T210000Z
X-MICROSOFT-CDO-ALLDAYEVENT:FALSE
SUMMARY:Kross Glass at Back to the Gypsy
DESCRIPTION:Kross Glass will be at Back to the Gypsy on 10/12/24 from noon until 4pm.  He will be set up outside and will do glass blowing demonstrations and blow specific pieces for people if they wish and as time allows.
X-ALT-DESC;FMTTYPE=text/html:Kross Glass will be at Back to the Gypsy on 10/12/24 from noon until 4pm.&nbsp\; He will be set up outside and will do glass blowing demonstrations and blow specific pieces for people if they wish and as time allows.&nbsp\;&nbsp\;
LOCATION:Back to the Gypsy 920 S. Neosho Blvd Suite C Neosho\, MO 64850
UID:e.2144.13094
SEQUENCE:3
DTSTAMP:20260424T203023Z
URL:https://www.neoshocc.com/events/details/kross-glass-at-back-to-the-gypsy-13094
END:VEVENT

END:VCALENDAR
