BEGIN:VCALENDAR
VERSION:2.0
PRODID:-//ChamberMaster//Event Calendar 2.0//EN
METHOD:PUBLISH
X-PUBLISHED-TTL:P3D
REFRESH-INTERVAL:P3D
CALSCALE:GREGORIAN
BEGIN:VEVENT
DTSTART:20250809T230000Z
DTEND:20250810T020000Z
X-MICROSOFT-CDO-ALLDAYEVENT:FALSE
SUMMARY:Kylie Ast Live at Eastside Social
DESCRIPTION:Spend your Saturday night with us on the patio enjoying live music from Kylie Ast! With her smooth vocals and easygoing acoustic vibe\, Kylie sets the perfect tone for a relaxed evening. Pair it with your favorite Eastside drink and dinner\, and you've got yourself a summer night done right!
X-ALT-DESC;FMTTYPE=text/html:<span style="color:rgb(35\, 31\, 32)\; font-family:brandon-grotesque\; font-size:22.4px">Spend your </span><strong>Saturday night</strong><span style="color:rgb(35\, 31\, 32)\; font-family:brandon-grotesque\; font-size:22.4px"> with us on the patio enjoying live music from </span><strong>Kylie Ast</strong><span style="color:rgb(35\, 31\, 32)\; font-family:brandon-grotesque\; font-size:22.4px">! With her smooth vocals and easygoing acoustic vibe\, Kylie sets the perfect tone for a relaxed evening. Pair it with your favorite Eastside drink and dinner\, and you&rsquo\;ve got yourself a summer night done right!</span>
LOCATION:Eastside Social 113 S Washington St. Neosho\, Mo
UID:e.2144.17550
SEQUENCE:3
DTSTAMP:20260424T043505Z
URL:https://www.neoshocc.com/events/details/kylie-ast-live-at-eastside-social-08-09-2025-17550
END:VEVENT

END:VCALENDAR
