BEGIN:VCALENDAR
VERSION:2.0
PRODID:-//ChamberMaster//Event Calendar 2.0//EN
METHOD:PUBLISH
X-PUBLISHED-TTL:P3D
REFRESH-INTERVAL:P3D
CALSCALE:GREGORIAN
BEGIN:VEVENT
DTSTART:20241110T000000Z
DTEND:20241110T030000Z
X-MICROSOFT-CDO-ALLDAYEVENT:FALSE
SUMMARY:Kylie Ast Live at Eastside Social
DESCRIPTION:Don't Miss Kylie Ast Eastside Social Debut! ???\n\nCome by on November 9th from 6 PM to 9 PM as Kylie Ast performs live at Eastside Social for the first time! Enjoy a night of great music and good times. See you there!
X-ALT-DESC;FMTTYPE=text/html:<p><strong>Don&#39\;t Miss Kylie Ast Eastside Social Debut!</strong> ???<br />\nCome by on <strong>November 9th</strong> from <strong>6 PM to 9 PM</strong> as Kylie Ast performs live at Eastside Social for the first time! Enjoy a night of great music and good times. See you there!</p>\n
LOCATION:Eastside Social 113 S Washington St. Neosho\, MO
UID:e.2144.13748
SEQUENCE:3
DTSTAMP:20260424T190755Z
URL:https://www.neoshocc.com/events/details/kylie-ast-live-at-eastside-social-13748
END:VEVENT

END:VCALENDAR
