BEGIN:VCALENDAR
VERSION:2.0
PRODID:-//ChamberMaster//Event Calendar 2.0//EN
METHOD:PUBLISH
X-PUBLISHED-TTL:P3D
REFRESH-INTERVAL:P3D
CALSCALE:GREGORIAN
BEGIN:VEVENT
DTSTART:20250204T160000Z
DTEND:20250204T190000Z
X-MICROSOFT-CDO-ALLDAYEVENT:FALSE
SUMMARY:La-Z-Boy Hiring Event
DESCRIPTION:La-Z-Boy Hiring Event \n\nCome Fall in love with La-Z-Boy\n\n\n\nWant to earn some cash with our referral bonus? Spread the word to friends and family that we will be having a hiring event on February 4th from 10am-1pm! \n\n\n\n$100 Once the referral successfully completes 3 months. \n\n$250 Once the referral successfully completes 6 months. \n\n$500 Once the Referral successfully completes 1 year.
X-ALT-DESC;FMTTYPE=text/html:La-Z-Boy Hiring Event&nbsp\;<br />\nCome Fall in love with La-Z-Boy<br />\n<br />\nWant to earn some cash with our referral bonus? Spread the word to friends and family that we will be having a hiring event on February 4th from 10am-1pm!&nbsp\;<br />\n<br />\n$100 Once the referral successfully completes 3 months.&nbsp\;<br />\n$250 Once the referral successfully completes 6 months.&nbsp\;<br />\n$500 Once the Referral successfully completes 1 year.&nbsp\;
LOCATION:La-Z-Boy Front Office 4301 howard bush Dr Neosho\, MO 64850
UID:e.2144.14378
SEQUENCE:3
DTSTAMP:20260424T133059Z
URL:https://www.neoshocc.com/events/details/la-z-boy-hiring-event-14378
END:VEVENT

END:VCALENDAR
