BEGIN:VCALENDAR
VERSION:2.0
PRODID:-//ChamberMaster//Event Calendar 2.0//EN
METHOD:PUBLISH
X-PUBLISHED-TTL:P3D
REFRESH-INTERVAL:P3D
CALSCALE:GREGORIAN
BEGIN:VEVENT
DTSTART:20241129T160000Z
DTEND:20241130T230000Z
X-MICROSOFT-CDO-ALLDAYEVENT:FALSE
SUMMARY:Lace & Grace Soft Opening
DESCRIPTION:Stop by to explore our beautiful space\, browse our stunning Bridal\, Prom\, Quinceanera and Formal Wear Collections\, and experience what Lace & Grace is all about. We can't wait to welcome you to this exciting new chapter on the square!
X-ALT-DESC;FMTTYPE=text/html:Stop by to explore our beautiful space\, browse our stunning Bridal\, Prom\, Quinceanera and Formal Wear Collections\, and experience what Lace &amp\; Grace is all about. We can&#39\;t wait to welcome you to this exciting new chapter on the square!
LOCATION:114 South Wood Street Neosho\, MO
UID:e.2144.14147
SEQUENCE:3
DTSTAMP:20260424T173315Z
URL:https://www.neoshocc.com/events/details/lace-grace-soft-opening-14147
END:VEVENT

END:VCALENDAR
