BEGIN:VCALENDAR
VERSION:2.0
PRODID:-//ChamberMaster//Event Calendar 2.0//EN
METHOD:PUBLISH
X-PUBLISHED-TTL:P3D
REFRESH-INTERVAL:P3D
CALSCALE:GREGORIAN
BEGIN:VEVENT
DTSTART:20241124T000000Z
DTEND:20241124T030000Z
X-MICROSOFT-CDO-ALLDAYEVENT:FALSE
SUMMARY:Lavander Jonz Live At Eastside Social
DESCRIPTION:Lavander Jonz will be jamming out at Eastside Social Nov 23rd from 6pm to 9pm
X-ALT-DESC;FMTTYPE=text/html:<p>Lavander Jonz will be jamming out at Eastside Social Nov 23rd from 6pm to 9pm</p>\n
LOCATION:Eastside Social 113 S Washington St. Neosho\, Mo
UID:e.2144.13750
SEQUENCE:3
DTSTAMP:20260424T173649Z
URL:https://www.neoshocc.com/events/details/lavander-jonz-live-at-eastside-social-13750
END:VEVENT

END:VCALENDAR
