BEGIN:VCALENDAR
VERSION:2.0
PRODID:-//ChamberMaster//Event Calendar 2.0//EN
METHOD:PUBLISH
X-PUBLISHED-TTL:P3D
REFRESH-INTERVAL:P3D
CALSCALE:GREGORIAN
BEGIN:VEVENT
DTSTART:20250508T203000Z
DTEND:20250508T213000Z
X-MICROSOFT-CDO-ALLDAYEVENT:FALSE
SUMMARY:LEGO Club
DESCRIPTION:LEGO Club is on the 2nd and 4th Thursday of the month from 3:30 to 4:30.\n\nThe library provides the LEGOS. The ages for this program are 5 and up.\n\nBuild and have a great time with your friends.
X-ALT-DESC;FMTTYPE=text/html:LEGO Club is on the 2nd and 4th Thursday of the month from 3:30 to 4:30.<br />\nThe library provides the LEGOS. The ages for this program are 5 and up.<br />\nBuild and have a great time with your friends.
LOCATION:201 West Spring Street\, Neosho\, MO 64850
UID:e.2144.14447
SEQUENCE:3
DTSTAMP:20260424T092312Z
URL:https://www.neoshocc.com/events/details/lego-club-01-05-2025-14447
END:VEVENT

END:VCALENDAR
