BEGIN:VCALENDAR
VERSION:2.0
PRODID:-//ChamberMaster//Event Calendar 2.0//EN
METHOD:PUBLISH
X-PUBLISHED-TTL:P3D
REFRESH-INTERVAL:P3D
CALSCALE:GREGORIAN
BEGIN:VEVENT
DTSTART:20240630T000000Z
DTEND:20240630T020000Z
X-MICROSOFT-CDO-ALLDAYEVENT:FALSE
SUMMARY:Liberty Celebration!
DESCRIPTION:Liberty Celebration! Featuring The NWA Jazz & More Orchestra Saturday\, June 29 | 7pm (doors 6:30pm) Inside C2C's home theatre\, the Beshore Performance Hall Celebrate the United States with this patriotic performance from Connect2Culture and the NWA Jazz & More Orchestra! From rock and roll to swing and everything in between\, NWA Jazz & More Orchestra is an 18-member traditional big band that will not disappoint. Experience a variety of classic patriotic songs performed by this talented regional band. Liberty Celebration! is made possible by Liberty Utilities. Tickets: $27.30 (fees included)
X-ALT-DESC;FMTTYPE=text/html:Liberty Celebration! Featuring The NWA Jazz &amp\; More Orchestra Saturday\, June 29 | 7pm (doors 6:30pm) Inside C2C&#39\;s home theatre\, the Beshore Performance Hall Celebrate the United States with this patriotic performance from Connect2Culture and the NWA Jazz &amp\; More Orchestra! From rock and roll to swing and everything in between\, NWA Jazz &amp\; More Orchestra is an 18-member traditional big band that will not disappoint. Experience a variety of classic patriotic songs performed by this talented regional band. Liberty Celebration! is made possible by Liberty Utilities. Tickets: $27.30 (fees included)
LOCATION:Cornell Complex inside C2C's home theatre\, the Beshore Performance Hall (212 West 7th St. Joplin MO)
UID:e.2144.12107
SEQUENCE:3
DTSTAMP:20260425T015436Z
URL:https://www.neoshocc.com/events/details/liberty-celebration-12107
END:VEVENT

END:VCALENDAR
