BEGIN:VCALENDAR
VERSION:2.0
PRODID:-//ChamberMaster//Event Calendar 2.0//EN
METHOD:PUBLISH
X-PUBLISHED-TTL:P3D
REFRESH-INTERVAL:P3D
CALSCALE:GREGORIAN
BEGIN:VEVENT
DTSTART:20251204T233000Z
DTEND:20251205T010000Z
X-MICROSOFT-CDO-ALLDAYEVENT:FALSE
SUMMARY:Lighting at Big Spring Park
DESCRIPTION:Kick off the holiday season with one of Neosho's most heartwarming traditions Lighting in the Park! Join us on Wednesday\, December 4th at 5:30 PM in Big Spring Park as we officially light up the park for the Christmas season.\n\nEnjoy a festive evening filled with community spirit\, sparkling lights\, and holiday cheer. Hot cocoa and donuts will be generously provided by The Clay Cup and Dude's Donuts\, and KNEO 91.7 will help bring the magic with their lighting and support.\n\nBring your family\, friends\, and neighbors for a cozy night under the glow of Christmas lights as we welcome the most joyful season of the year in the heart of Neosho.
X-ALT-DESC;FMTTYPE=text/html:<p data-end="394" data-start="157">Kick off the holiday season with one of Neosho&rsquo\;s most heartwarming traditions&mdash\;<strong data-end="259" data-start="235">Lighting in the Park</strong>! Join us on <strong data-end="310" data-start="272">Wednesday\, December 4th at 5:30 PM</strong> in <strong data-end="333" data-start="314">Big Spring Park</strong> as we officially light up the park for the Christmas season.</p>\n\n<p data-end="659" data-start="396">Enjoy a festive evening filled with community spirit\, sparkling lights\, and holiday cheer. <strong data-end="511" data-start="487">Hot cocoa and donuts</strong> will be generously provided by <strong data-end="559" data-start="543">The Clay Cup</strong> and <strong data-end="581" data-start="564">Dude&rsquo\;s Donuts</strong>\, and <strong data-end="600" data-start="587">KNEO 91.7</strong> will help bring the magic with their lighting and support.</p>\n\n<p data-end="827" data-start="661">Bring your family\, friends\, and neighbors for a cozy night under the glow of Christmas lights as we welcome the most joyful season of the year in the heart of Neosho.</p>\n
LOCATION:Big Spring Park
UID:e.2144.18806
SEQUENCE:3
DTSTAMP:20260423T224434Z
URL:https://www.neoshocc.com/events/details/lighting-at-big-spring-park-18806
END:VEVENT

END:VCALENDAR
