BEGIN:VCALENDAR
VERSION:2.0
PRODID:-//ChamberMaster//Event Calendar 2.0//EN
METHOD:PUBLISH
X-PUBLISHED-TTL:P3D
REFRESH-INTERVAL:P3D
CALSCALE:GREGORIAN
BEGIN:VEVENT
DTSTART:20221201T133000Z
DTEND:20221203T133000Z
X-MICROSOFT-CDO-ALLDAYEVENT:FALSE
SUMMARY:Little Women presented by Crowder College Theatre
DESCRIPTION:Crowder College Theatre presents Little Women (PG) December 1 - 3 & 8 - 10 (7:30pm nightly\, 2pm Saturday matinee) at the Elsie Plaster Community Center (601 Laclede Ave.\, Neosho\, MO 64850). Reserve tickets at CrowderBookstore.com/Events or call 417.455.5678. \n\n\n\nThe story of Little Women\, Louisa M. Alcott's famous novel\, is so well known and so well loved that it is hardly surprising that many attempts have been made to portray its characters upon the stage. None has yet been so successful\, however\, as this brilliant dramatization by Peter Clapham. The structure of the play faithfully covers \n\nthat of the novel\, interweaving the lives of the March girls\, Meg\, Jo\, Beth\, and Amy\, and Laurie\, the boy next door\, as they grow up happily together - yet the action is contained neatly in one set. All the overtones of gaiety and the undertones of sadness are here\, bringing the story completely to life in a way which is both accurate and dramatically satisfying.
X-ALT-DESC;FMTTYPE=text/html:Crowder College Theatre presents <em>Little Women</em>&nbsp\;(PG) December 1 - 3 &amp\; 8 - 10 (7:30pm nightly\, 2pm Saturday matinee) at the Elsie Plaster Community Center (601 Laclede Ave.\, Neosho\, MO 64850). Reserve tickets at&nbsp\;<a href="http://CrowderBookstore.com/Events">CrowderBookstore.com/Events</a>&nbsp\;or call 417.455.5678.&nbsp\;<br />\n<br />\nThe story of Little Women\, Louisa M. Alcott&rsquo\;s famous novel\, is so well known and so well loved that it is hardly surprising that many attempts have been made to portray its characters upon the stage. None has yet been so successful\, however\,&nbsp\;as this brilliant dramatization&nbsp\;by Peter Clapham. The structure of the play faithfully covers&nbsp\;<br />\nthat of the novel\, interweaving the lives of the March girls\,&nbsp\;Meg\, Jo\, Beth\, and Amy\, and Laurie\, the boy next door\, as&nbsp\;they grow up happily together - yet the action is contained neatly in one set. All the overtones of gaiety and the undertones of sadness are here\, bringing the story completely to life in a way which is both accurate and dramatically satisfying.
LOCATION:Elsie Plaster Community Center (601 Laclede Ave.\, Neosho\, MO 64850)
UID:e.2144.8905
SEQUENCE:3
DTSTAMP:20260426T035559Z
URL:https://www.neoshocc.com/events/details/little-women-presented-by-crowder-college-theatre-8905
END:VEVENT

END:VCALENDAR
