BEGIN:VCALENDAR
VERSION:2.0
PRODID:-//ChamberMaster//Event Calendar 2.0//EN
METHOD:PUBLISH
X-PUBLISHED-TTL:P3D
REFRESH-INTERVAL:P3D
CALSCALE:GREGORIAN
BEGIN:VEVENT
DTSTART:20250725T230000Z
DTEND:20250726T020000Z
X-MICROSOFT-CDO-ALLDAYEVENT:FALSE
SUMMARY:Low Compatibility Live Music at Eastside Social
DESCRIPTION:JAM OUT WITH LOW COMPATIBILITY!\n\nDon't miss the fun on July 25th from 6 9 PM it's going to be a great time!
X-ALT-DESC;FMTTYPE=text/html:<div>\n<div>\n<div style="margin-left:-17px\; margin-right:-17px">\n<div>\n<div>\n<div>\n<div>\n<p><strong>JAM OUT WITH LOW COMPATIBILITY!</strong><br />\nDon&rsquo\;t miss the fun on <strong>July 25th from 6&ndash\;9 PM</strong>&mdash\;it&rsquo\;s going to be a <em>great</em> time!</p>\n\n<div>&nbsp\;</div>\n</div>\n</div>\n</div>\n</div>\n</div>\n</div>\n\n<div>&nbsp\;</div>\n</div>\n
LOCATION:Eastside Social 113 S Washington St. Neosho\, Mo
UID:e.2144.17544
SEQUENCE:3
DTSTAMP:20260424T060914Z
URL:https://www.neoshocc.com/events/details/low-compatibility-live-music-at-eastside-social-07-25-2025-17544
END:VEVENT

END:VCALENDAR
